BEGIN:VCALENDAR
VERSION:2.0
PRODID:-//Raica.de - ECPv6.15.20//NONSGML v1.0//EN
CALSCALE:GREGORIAN
METHOD:PUBLISH
X-ORIGINAL-URL:https://raica.de
X-WR-CALDESC:Veranstaltungen für Raica.de
REFRESH-INTERVAL;VALUE=DURATION:PT1H
X-Robots-Tag:noindex
X-PUBLISHED-TTL:PT1H
BEGIN:VTIMEZONE
TZID:Europe/Berlin
BEGIN:DAYLIGHT
TZOFFSETFROM:+0100
TZOFFSETTO:+0200
TZNAME:CEST
DTSTART:20250330T010000
END:DAYLIGHT
BEGIN:STANDARD
TZOFFSETFROM:+0200
TZOFFSETTO:+0100
TZNAME:CET
DTSTART:20251026T010000
END:STANDARD
BEGIN:DAYLIGHT
TZOFFSETFROM:+0100
TZOFFSETTO:+0200
TZNAME:CEST
DTSTART:20260329T010000
END:DAYLIGHT
BEGIN:STANDARD
TZOFFSETFROM:+0200
TZOFFSETTO:+0100
TZNAME:CET
DTSTART:20261025T010000
END:STANDARD
BEGIN:DAYLIGHT
TZOFFSETFROM:+0100
TZOFFSETTO:+0200
TZNAME:CEST
DTSTART:20270328T010000
END:DAYLIGHT
BEGIN:STANDARD
TZOFFSETFROM:+0200
TZOFFSETTO:+0100
TZNAME:CET
DTSTART:20271031T010000
END:STANDARD
END:VTIMEZONE
BEGIN:VEVENT
DTSTART;TZID=Europe/Berlin:20260724T110000
DTEND;TZID=Europe/Berlin:20260724T123000
DTSTAMP:20260423T104702
CREATED:20260219T103712Z
LAST-MODIFIED:20260219T111249Z
UID:10001248-1784890800-1784896200@raica.de
SUMMARY:Stilltreff - Milchstraßencafe
DESCRIPTION:
URL:https://raica.de/veranstaltungen/stilltreff-milchstrassencafe/2026-07-24/
LOCATION:Hebammenpraxis\, Baverterstr. 17\, Solingen\, NRW\, 42719\, Deutschland
ATTACH;FMTTYPE=image/jpeg:https://raica.de/wp-content/uploads/2019/01/Stillcafe-Solingen-compressor.jpg
END:VEVENT
BEGIN:VEVENT
DTSTART;TZID=Europe/Berlin:20260724T160000
DTEND;TZID=Europe/Berlin:20260724T183000
DTSTAMP:20260423T104702
CREATED:20260219T103118Z
LAST-MODIFIED:20260219T103118Z
UID:10001234-1784908800-1784917800@raica.de
SUMMARY:Ninja-Intuition Mikroseminar
DESCRIPTION:Findet in der Natur in Solingen statt. Ort wird vor der Veranstaltung bekannt gegeben.
URL:https://raica.de/veranstaltungen/ninja-intuition-mikroseminar/
ATTACH;FMTTYPE=image/jpeg:https://raica.de/wp-content/uploads/2020/06/909585074-091f313a-ff51-4fc0-8c93-cfedfd0ea029-84iVG6bULee.jpg
ORGANIZER;CN="Raica Vermeegen":MAILTO:info@raica.de
END:VEVENT
BEGIN:VEVENT
DTSTART;TZID=Europe/Berlin:20260807T110000
DTEND;TZID=Europe/Berlin:20260807T123000
DTSTAMP:20260423T104702
CREATED:20260219T103712Z
LAST-MODIFIED:20260219T111249Z
UID:10001249-1786100400-1786105800@raica.de
SUMMARY:Stilltreff - Milchstraßencafe
DESCRIPTION:
URL:https://raica.de/veranstaltungen/stilltreff-milchstrassencafe/2026-08-07/
LOCATION:Hebammenpraxis\, Baverterstr. 17\, Solingen\, NRW\, 42719\, Deutschland
ATTACH;FMTTYPE=image/jpeg:https://raica.de/wp-content/uploads/2019/01/Stillcafe-Solingen-compressor.jpg
END:VEVENT
BEGIN:VEVENT
DTSTART;TZID=Europe/Berlin:20260911T110000
DTEND;TZID=Europe/Berlin:20260911T123000
DTSTAMP:20260423T104702
CREATED:20260219T103712Z
LAST-MODIFIED:20260219T111249Z
UID:10001250-1789124400-1789129800@raica.de
SUMMARY:Stilltreff - Milchstraßencafe
DESCRIPTION:
URL:https://raica.de/veranstaltungen/stilltreff-milchstrassencafe/2026-09-11/
LOCATION:Hebammenpraxis\, Baverterstr. 17\, Solingen\, NRW\, 42719\, Deutschland
ATTACH;FMTTYPE=image/jpeg:https://raica.de/wp-content/uploads/2019/01/Stillcafe-Solingen-compressor.jpg
END:VEVENT
BEGIN:VEVENT
DTSTART;TZID=Europe/Berlin:20260925T110000
DTEND;TZID=Europe/Berlin:20260925T123000
DTSTAMP:20260423T104702
CREATED:20260219T103712Z
LAST-MODIFIED:20260219T111249Z
UID:10001251-1790334000-1790339400@raica.de
SUMMARY:Stilltreff - Milchstraßencafe
DESCRIPTION:
URL:https://raica.de/veranstaltungen/stilltreff-milchstrassencafe/2026-09-25/
LOCATION:Hebammenpraxis\, Baverterstr. 17\, Solingen\, NRW\, 42719\, Deutschland
ATTACH;FMTTYPE=image/jpeg:https://raica.de/wp-content/uploads/2019/01/Stillcafe-Solingen-compressor.jpg
END:VEVENT
BEGIN:VEVENT
DTSTART;TZID=Europe/Berlin:20261009T110000
DTEND;TZID=Europe/Berlin:20261009T123000
DTSTAMP:20260423T104702
CREATED:20260219T103712Z
LAST-MODIFIED:20260219T111249Z
UID:10001252-1791543600-1791549000@raica.de
SUMMARY:Stilltreff - Milchstraßencafe
DESCRIPTION:
URL:https://raica.de/veranstaltungen/stilltreff-milchstrassencafe/2026-10-09/
LOCATION:Hebammenpraxis\, Baverterstr. 17\, Solingen\, NRW\, 42719\, Deutschland
ATTACH;FMTTYPE=image/jpeg:https://raica.de/wp-content/uploads/2019/01/Stillcafe-Solingen-compressor.jpg
END:VEVENT
BEGIN:VEVENT
DTSTART;TZID=Europe/Berlin:20261023T110000
DTEND;TZID=Europe/Berlin:20261023T123000
DTSTAMP:20260423T104702
CREATED:20260219T103712Z
LAST-MODIFIED:20260219T111249Z
UID:10001253-1792753200-1792758600@raica.de
SUMMARY:Stilltreff - Milchstraßencafe
DESCRIPTION:
URL:https://raica.de/veranstaltungen/stilltreff-milchstrassencafe/2026-10-23/
LOCATION:Hebammenpraxis\, Baverterstr. 17\, Solingen\, NRW\, 42719\, Deutschland
ATTACH;FMTTYPE=image/jpeg:https://raica.de/wp-content/uploads/2019/01/Stillcafe-Solingen-compressor.jpg
END:VEVENT
BEGIN:VEVENT
DTSTART;TZID=Europe/Berlin:20261120T110000
DTEND;TZID=Europe/Berlin:20261120T123000
DTSTAMP:20260423T104702
CREATED:20260219T103712Z
LAST-MODIFIED:20260219T111249Z
UID:10001254-1795172400-1795177800@raica.de
SUMMARY:Stilltreff - Milchstraßencafe
DESCRIPTION:
URL:https://raica.de/veranstaltungen/stilltreff-milchstrassencafe/2026-11-20/
LOCATION:Hebammenpraxis\, Baverterstr. 17\, Solingen\, NRW\, 42719\, Deutschland
ATTACH;FMTTYPE=image/jpeg:https://raica.de/wp-content/uploads/2019/01/Stillcafe-Solingen-compressor.jpg
END:VEVENT
BEGIN:VEVENT
DTSTART;TZID=Europe/Berlin:20261211T110000
DTEND;TZID=Europe/Berlin:20261211T123000
DTSTAMP:20260423T104702
CREATED:20260219T103712Z
LAST-MODIFIED:20260219T111249Z
UID:10001255-1796986800-1796992200@raica.de
SUMMARY:Stilltreff - Milchstraßencafe
DESCRIPTION:
URL:https://raica.de/veranstaltungen/stilltreff-milchstrassencafe/2026-12-11/
LOCATION:Hebammenpraxis\, Baverterstr. 17\, Solingen\, NRW\, 42719\, Deutschland
ATTACH;FMTTYPE=image/jpeg:https://raica.de/wp-content/uploads/2019/01/Stillcafe-Solingen-compressor.jpg
END:VEVENT
END:VCALENDAR